BEGIN:VCALENDAR
VERSION:2.0
PRODID:-//LDK - ECPv6.15.20//NONSGML v1.0//EN
CALSCALE:GREGORIAN
METHOD:PUBLISH
X-WR-CALNAME:LDK
X-ORIGINAL-URL:https://lidhjademokratike.org
X-WR-CALDESC:Events for LDK
REFRESH-INTERVAL;VALUE=DURATION:PT1H
X-Robots-Tag:noindex
X-PUBLISHED-TTL:PT1H
BEGIN:VTIMEZONE
TZID:UTC
BEGIN:STANDARD
TZOFFSETFROM:+0000
TZOFFSETTO:+0000
TZNAME:UTC
DTSTART:20170101T000000
END:STANDARD
END:VTIMEZONE
BEGIN:VEVENT
DTSTART;VALUE=DATE:20180823
DTEND;VALUE=DATE:20200207
DTSTAMP:20260424T002600
CREATED:20180831T040244Z
LAST-MODIFIED:20180831T040244Z
UID:154-1534982400-1581033599@lidhjademokratike.org
SUMMARY:Dinner with Franco
DESCRIPTION:Vestibulum at massa vitae diam varius rhoncus a eu tellus. Vivamus et leo felis. Suspendisse auctor risus nec luctus tristique. In vel tortor orci. Suspendisse luctus\, justo aliquet convallis eleifend\, urna nibh ultrices nisl\, eu mattis nisl eros sed libero. Integer sagittis porta augue vitae mollis. Etiam semper sodales libero id scelerisque. In hac habitasse platea dictumst. Suspendisse eget justo risus. Integer consectetur nibh ut urna blandit sodales
URL:https://lidhjademokratike.org/event/dinner-with-franco/
LOCATION:Contacts Shortcodes Sheme Dark
CATEGORIES:Politic
ATTACH;FMTTYPE=:
END:VEVENT
END:VCALENDAR