BEGIN:VCALENDAR
VERSION:2.0
PRODID:-//LDK - ECPv6.15.20//NONSGML v1.0//EN
CALSCALE:GREGORIAN
METHOD:PUBLISH
X-WR-CALNAME:LDK
X-ORIGINAL-URL:https://lidhjademokratike.org
X-WR-CALDESC:Events for LDK
REFRESH-INTERVAL;VALUE=DURATION:PT1H
X-Robots-Tag:noindex
X-PUBLISHED-TTL:PT1H
BEGIN:VTIMEZONE
TZID:UTC
BEGIN:STANDARD
TZOFFSETFROM:+0000
TZOFFSETTO:+0000
TZNAME:UTC
DTSTART:20170101T000000
END:STANDARD
END:VTIMEZONE
BEGIN:VEVENT
DTSTART;TZID=UTC:20200630T100000
DTEND;TZID=UTC:20200724T143000
DTSTAMP:20260423T235858
CREATED:20181026T141141Z
LAST-MODIFIED:20181026T141141Z
UID:2610-1593511200-1595601000@lidhjademokratike.org
SUMMARY:2018 Military Reform and How It Influences the Families
DESCRIPTION:Ut wisi enim ad minim veniam\, quis nostrud exerci tation ul lamcorper suscipit lobortis nisl ut aliquip ex ea commodo con sequat. Duis autem vel eum iriure dolor in hendrerit in vulpu tate velit esse molestie consequat\, vel illum dolore eu feugiat nulla facilisis at vero eros et accumsan et iusto odio dignissim qui blandit praesent luptatum zzril delenit augue. \nDolor in hendrerit in vulputate velit esse molestie consequat\, vel illum dolore eu feugiat nulla facilisis at vero eros et accum san et iusto odio dignissim qui blandit praesent luptatum zzril delenit augue duis dolore te feugait nulla facilisi.
URL:https://lidhjademokratike.org/event/2018-military-reform-and-how-it-influences-the-families/
LOCATION:auto_23ldk1608708563-768×452-1
ATTACH;FMTTYPE=:
END:VEVENT
BEGIN:VEVENT
DTSTART;TZID=UTC:20200301T093000
DTEND;TZID=UTC:20210321T163000
DTSTAMP:20260423T235858
CREATED:20181026T140141Z
LAST-MODIFIED:20181026T140141Z
UID:2609-1583055000-1616344200@lidhjademokratike.org
SUMMARY:The Power is in Unity. Join the Volunteer Group Today!
DESCRIPTION:Ut wisi enim ad minim veniam\, quis nostrud exerci tation ul lamcorper suscipit lobortis nisl ut aliquip ex ea commodo con sequat. Duis autem vel eum iriure dolor in hendrerit in vulpu tate velit esse molestie consequat\, vel illum dolore eu feugiat nulla facilisis at vero eros et accumsan et iusto odio dignissim qui blandit praesent luptatum zzril delenit augue.\nDolor in hendrerit in vulputate velit esse molestie consequat\, vel illum dolore eu feugiat nulla facilisis at vero eros et accum san et iusto odio dignissim qui blandit praesent luptatum zzril delenit augue duis dolore te feugait nulla facilisi.
URL:https://lidhjademokratike.org/event/the-power-is-in-unity-join-the-volunteer-group-today/
LOCATION:auto_23ldk1608708563-768×452-1
ATTACH;FMTTYPE=:
END:VEVENT
BEGIN:VEVENT
DTSTART;TZID=UTC:20190802T200000
DTEND;TZID=UTC:20200108T010000
DTSTAMP:20260423T235858
CREATED:20180831T040243Z
LAST-MODIFIED:20180831T040243Z
UID:155-1564776000-1578445200@lidhjademokratike.org
SUMMARY:Late Night Party
DESCRIPTION:Well\, I got better. Ah\, now we see the violence inherent in the system! The swallow may fly south with the sun\, and the house martin or the plover may seek warmer climes in winter\, yet these are not strangers to our land. It’s only a model. It’s only a model.
URL:https://lidhjademokratike.org/event/late-night-party/
CATEGORIES:Nightlife,Party
ATTACH;FMTTYPE=:
END:VEVENT
BEGIN:VEVENT
DTSTART;TZID=UTC:20190615T120000
DTEND;TZID=UTC:20191228T133000
DTSTAMP:20260423T235858
CREATED:20180831T040242Z
LAST-MODIFIED:20180831T040242Z
UID:156-1560600000-1577539800@lidhjademokratike.org
SUMMARY:Board Meeting
DESCRIPTION:I have traced the Rebel spies to her. Now she is my only link to finding their secret base. What?! I care. So\, what do you think of her\, Han? The Force is strong with this one. I have you now. But with the blast shield down\, I can’t even see! How am I supposed to fight? Red Five standing by.
URL:https://lidhjademokratike.org/event/board-meeting/
CATEGORIES:Meeting
ATTACH;FMTTYPE=:
END:VEVENT
BEGIN:VEVENT
DTSTART;VALUE=DATE:20180823
DTEND;VALUE=DATE:20200207
DTSTAMP:20260423T235858
CREATED:20180831T040244Z
LAST-MODIFIED:20180831T040244Z
UID:154-1534982400-1581033599@lidhjademokratike.org
SUMMARY:Dinner with Franco
DESCRIPTION:Vestibulum at massa vitae diam varius rhoncus a eu tellus. Vivamus et leo felis. Suspendisse auctor risus nec luctus tristique. In vel tortor orci. Suspendisse luctus\, justo aliquet convallis eleifend\, urna nibh ultrices nisl\, eu mattis nisl eros sed libero. Integer sagittis porta augue vitae mollis. Etiam semper sodales libero id scelerisque. In hac habitasse platea dictumst. Suspendisse eget justo risus. Integer consectetur nibh ut urna blandit sodales
URL:https://lidhjademokratike.org/event/dinner-with-franco/
LOCATION:Contacts Shortcodes Sheme Dark
CATEGORIES:Politic
ATTACH;FMTTYPE=:
END:VEVENT
BEGIN:VEVENT
DTSTART;TZID=UTC:20180706T180000
DTEND;TZID=UTC:20200417T180000
DTSTAMP:20260423T235858
CREATED:20180831T040236Z
LAST-MODIFIED:20180831T040236Z
UID:157-1530900000-1587146400@lidhjademokratike.org
SUMMARY:Dinner Party
DESCRIPTION:Look\, my liege! Shut up! Will you shut up?! What a strange person. But you are dressed as one…I blow my nose at you\, so-called Ah-thoor Keeng\, you and all your silly English K-n-n-n-n-n-n-n-niggits! The Lady of the Lake\, her arm clad in the purest shimmering samite\, held aloft Excalibur from the bosom of the water\, signifying by divine providence that I\, Arthur\, was to carry Excalibur. That is why I am your king.
URL:https://lidhjademokratike.org/event/dinner-party/
CATEGORIES:Party
ATTACH;FMTTYPE=:
END:VEVENT
END:VCALENDAR